BEGIN:VCALENDAR
VERSION:2.0
PRODID:-//Hurlé prods. - ECPv6.15.17.1//NONSGML v1.0//EN
CALSCALE:GREGORIAN
METHOD:PUBLISH
X-WR-CALNAME:Hurlé prods.
X-ORIGINAL-URL:https://hurleprods.com/en/
X-WR-CALDESC:Events for Hurlé prods.
REFRESH-INTERVAL;VALUE=DURATION:PT1H
X-Robots-Tag:noindex
X-PUBLISHED-TTL:PT1H
BEGIN:VTIMEZONE
TZID:Europe/Madrid
BEGIN:DAYLIGHT
TZOFFSETFROM:+0100
TZOFFSETTO:+0200
TZNAME:CEST
DTSTART:20210328T010000
END:DAYLIGHT
BEGIN:STANDARD
TZOFFSETFROM:+0200
TZOFFSETTO:+0100
TZNAME:CET
DTSTART:20211031T010000
END:STANDARD
BEGIN:DAYLIGHT
TZOFFSETFROM:+0100
TZOFFSETTO:+0200
TZNAME:CEST
DTSTART:20220327T010000
END:DAYLIGHT
BEGIN:STANDARD
TZOFFSETFROM:+0200
TZOFFSETTO:+0100
TZNAME:CET
DTSTART:20221030T010000
END:STANDARD
BEGIN:DAYLIGHT
TZOFFSETFROM:+0100
TZOFFSETTO:+0200
TZNAME:CEST
DTSTART:20230326T010000
END:DAYLIGHT
BEGIN:STANDARD
TZOFFSETFROM:+0200
TZOFFSETTO:+0100
TZNAME:CET
DTSTART:20231029T010000
END:STANDARD
END:VTIMEZONE
BEGIN:VEVENT
DTSTART;TZID=Europe/Madrid:20220529T210000
DTEND;TZID=Europe/Madrid:20220529T233000
DTSTAMP:20260420T233846
CREATED:20220524T083506Z
LAST-MODIFIED:20220524T083506Z
UID:7163-1653858000-1653867000@hurleprods.com
SUMMARY:JAM POÉTICA
DESCRIPTION:Comezamos as Jams Poéticas na Kominsky \n  \nO último domingo de cada mes a Kominsky abrirá as súas portas á poesía\, abrindo o seu micro ás poetas do nosos redor. \nCada jam poética terá unha ou un poeta convidado e despois haberá un micro aberto para aquelas persoas que queiran subirse a recitar. \nO evento é totalmente libre\, aceptando a poesía no amplo sentido do termo\, sen barreiras. \n  \nQue é poesía? \nPoesía eres tu. \n  \n  \n  \nAportación 3€.
URL:https://hurleprods.com/en/agenda/jam-poetica/
CATEGORIES:Poesía
ATTACH;FMTTYPE=:
END:VEVENT
BEGIN:VEVENT
DTSTART;TZID=Europe/Madrid:20220522T120000
DTEND;TZID=Europe/Madrid:20220522T183000
DTSTAMP:20260420T233846
CREATED:20220501T164759Z
LAST-MODIFIED:20220501T164759Z
UID:7131-1653220800-1653244200@hurleprods.com
SUMMARY:Frankie Month Galego
DESCRIPTION:BENVIDOS AO\n#FrankieMonthGalego \nEste mes de maio as comunidades swing de Galicia unímonos para organizar unha romaría lindyhoppeira en homenaxe a Frankie Manning \nNesa romaría haberá diferentes eventos e \nOUTRO CONTO e CONSTANCE HURLÉ \norganizan un eventazo swing conxunto na AMORADA COOPERATIVA no que poideredes disfrutar de música en directo da man de GHASTAS PISTA SWING BAND\, unha clase aberta\, comida súper rica \, e a proxección do documental “ILHC Legacys-Entrevista a Frankie Manning” traducido por Andrea Abreu e Alba Cobo \nHorario:\n12:00 Apertura de portas\n12:15 Clase aberta de Shim sham\n13:00 Concerto de Ghastas Pista swing band\n14:30 Comida con Outro Conto\n16:30 Proxección documental \nPrezo e reservas\nConcerto 12€ (con consumición) | 620564187\nMenú Outro Conto 10€ | 613051569 \nAs entradas tamén estarán dispoñibles en formato físico en Swing On School e Little Savoy así como na A Morada Cooperativa \nOrganizan e colaboran\n@constance_hurle\n@outrocontovigo\n@amoradacooperativa\n@coboalba\n@vegabreu\n@diegoalonsax\n@yudit_._\n@wilfriedwilde\n@hector_agulla\n@swingonvigo
URL:https://hurleprods.com/en/agenda/frankie-month-galego/
CATEGORIES:Swing
ATTACH;FMTTYPE=:
END:VEVENT
BEGIN:VEVENT
DTSTART;TZID=Europe/Madrid:20220518T120000
DTEND;TZID=Europe/Madrid:20220518T133000
DTSTAMP:20260420T233846
CREATED:20220513T160346Z
LAST-MODIFIED:20220513T160346Z
UID:7144-1652875200-1652880600@hurleprods.com
SUMMARY:Lara Hierro
DESCRIPTION:ENSAIO ABERTO de Lara Hierro \n  \nO mércores 18 ás 12:00 convidávosvos ata a cociña de Lara Hierro\, abrindo as portas ao proceso creativo dende dentro. \nO público poderá asistir a un ensaio da compañía e terá oportunidade de aportar o seu punto de vista nunha pequena charla de intercambio de opinión posterior.
URL:https://hurleprods.com/en/agenda/lara-hierro-4/
CATEGORIES:Teatro contemporáneo
ATTACH;FMTTYPE=:
END:VEVENT
BEGIN:VEVENT
DTSTART;TZID=Europe/Madrid:20220511T173000
DTEND;TZID=Europe/Madrid:20220615T190000
DTSTAMP:20260420T233846
CREATED:20220513T160801Z
LAST-MODIFIED:20220513T160801Z
UID:7147-1652290200-1655319600@hurleprods.com
SUMMARY:Taller de escrita creativa
DESCRIPTION:No marco da residencia literaria que Constance Hurlé realiza na Zona C\, terá lugar un taller de escrita creativa \nUn taller que  pretende incentivar a creatividade\, desenvolver a imaxinación e promover o interese pola escrita e o coñecemento e bo uso da lingua. \nDatas: 11\, 18 e 25 de maio  e 1\, 8 e 15 de xuño \nHorario: de 17.30 a 19.00h
URL:https://hurleprods.com/en/agenda/taller-de-escrita-creativa/
CATEGORIES:Literatura
ATTACH;FMTTYPE=:
END:VEVENT
BEGIN:VEVENT
DTSTART;TZID=Europe/Madrid:20220511T110000
DTEND;TZID=Europe/Madrid:20220715T190000
DTSTAMP:20260420T233846
CREATED:20220511T090016Z
LAST-MODIFIED:20220511T090016Z
UID:7154-1652266800-1657911600@hurleprods.com
SUMMARY:ACTIVIDADES RESIDENCIA LITERARIA
DESCRIPTION: CONSTANCE HURLÉ_ZONA C\n\n\n\n\n\n\n\n\n\n\n\n\n\nA Zona C acolle por vez primeira un proxecto de creación literaria\, que baixo o título ‘Sem grana e sem frescura’ da autora Constance Hurlé\, vén de concorrer á convocatoria de proxectos de intervencións artísticas para a Zona C\, na modalidade de proxectos de creación literaria. O último andar deste espazo convértese así no lugar onde realizar o proxecto da escrita nos meses de maio a xullo de 2022. O resultado do traballo de Constance Hurlé será a edición da obra. \nACTIVIDADES \nDurante o período de residencia na Zona C\, a autora\, Constance Hurlé\, levará a cabo unha serie de intervencións no espazo co fin de establecer unha ponte entre a literatura e o público. \nEXPOSICIÓN \nPoderá visitarse unha exposición conformada por imaxes e obxectos relacionadas coa viaxe autobiográfica da que trata a novela en construción. \nDATA E HORA:  mércores e xoves de 11:00 a 14:00 e de 16:00 a 19:00 h (3º andar) \nRECITAL \nDurante o periodo de residencia desenvolvese un taller de escrita creativa dirixido pola escritora. Os resultado dos traballos desenvolvidos cos participantes terán forma final de recital. \nAs persoas asistintes ao taller escollerán unha serie de textos e compartirán as súas creacións literarias co público. \nDATA e HORA: xoves 22 de xuño de 18.30 a 20.00 h. (3º andar) \nEntrada libre até límite de aforo \nINTERVENCIÓNS POÉTICAS \nSerán convidados dous poetas da escena local compostelana para acompañar á autora nun diálogo lírico onde a palabra se transmite a través da performatividade\, o xogo poético e o spoken word. \nAs persoas convidadas serán Peter Brea e Paulo Maestro\, recoñecidos activistas culturais e parte activa do Poetry Slam Compostela. \nDATA E HORA: os xoves 16 e 30 de xuño de 18:00 a 19:00 h (3º andar) \nEntrada libre até límite de aforo \n______ \n“Durante case oito meses estiven viaxando facendo autostop ao longo de Brasil. Sem grana e sem frescura era unha das miñas frases durante a viaxe\, trátase dun refrán brasileiro que quere dicir algo así como “sen cartos e sen miramentos”. Esta obra\, por tanto\, mostra ese periplo por Brasil\, unha viaxe durante a cal atravesei 16 dos 26 estados do país prescindindo dos cartos e as comodidades. O relato toma como punto de partida unha serie de notas e fragmentos que fun escribindo ao longo da viaxe\, así como doutros textos escritos por persoas que me acompañaron nalgunha das etapas. \nDurante eses meses vivín unha longa serie de aventuras\, unhas fermosas e outras moi duras\, converténdose a experiencia nunha aprendizaxe indiscutible. Asistín a rituais de culturas indíxenas\, coñecín o Santo Daimán\, tomei ayawasca\, troquei ideia con outros viaxeiros\, axudei a unha muller maltratada a abandonar ao seu home\, estiven ingresada rozando a morte\, fun vítima de acoso\, leváronme á comisaría por unha equivocación\, bañeime nas fervenzas máis fermosas que viron os meus ollos\, aprendín a traballar o fío\, a facer fogueiras\, a durmir á intemperie e a cagar nun buraco cavado polas miñas propias mans. Agora chegou o momento de transmitir estas experiencias\, por iso xorde a necesidade de facer da miña travesía unha novela”.
URL:https://hurleprods.com/en/agenda/actividades-residencia-literaria/
CATEGORIES:Literatura
ATTACH;FMTTYPE=:
END:VEVENT
BEGIN:VEVENT
DTSTART;TZID=Europe/Madrid:20220429T210000
DTEND;TZID=Europe/Madrid:20220429T220000
DTSTAMP:20260420T233846
CREATED:20220314T174305Z
LAST-MODIFIED:20220314T174305Z
UID:6469-1651266000-1651269600@hurleprods.com
SUMMARY:Lara Hierro
DESCRIPTION:– GALEGO – \nLara Hierro é un espectáculo de teatro contemporáneo con carácter multidisciplinar protagonizado por tres mulleres da xeración milenial. Soma pon o movemento\, Psique a voz e Pneuma a música para falar da fráxil situación do sector cultural e da crise emocional\, social e medioambiental que estamos vivindo. As tres figuras que compoñen a peza navegan entre o mundo cotiá e un plano de ensoño onde os seus corpos e discursos se encontran. Lara Hierro é unha chamada ao recoñecemento dos sentimentos de frustración\, parálise e esgotamento provocados pola pandemia e a precariedade inherente á nosa xeración e ao noso sector. \nTrátase dun espectáculo de carácter poliédrico dirixido a un público adulto onde as ferramentas a través das que falamos son a danza\, a palabra\, a música e a vídeo creación. \n  \n  \n– CASTELLANO – \nLara Hierro es un espectáculo multidisciplinar protagonizado por tres mujeres de la generación milenial. Soma pone el movimiento\, Psique la voz y Pneuma la música para falar de la frágil situación del sector cultural y de la crisis emocional\, social y medioambiental que estamos viviendo. Las tres figuras que componen la pieza navegan entre el mundo cotidiano y un plano de ensueño donde sus cuerpos y discursos se encuentran. Lara Hierro es una llamada al reconocimiento de los sentimientos de frustración\, parálisis y agotamiento provocados por la pandemia y la precariedad inherente a nuestro sector y nuestra generación. Se trata de un espectáculo de carácter poliédrico dirigido a un público adulto donde las herramientas a través de las que hablamos son la danza\, la palabra\, la música y la vídeo creación.
URL:https://hurleprods.com/en/agenda/lara-hierro-2/
CATEGORIES:Teatro contemporáneo
ATTACH;FMTTYPE=:
END:VEVENT
BEGIN:VEVENT
DTSTART;TZID=Europe/Madrid:20220417T193000
DTEND;TZID=Europe/Madrid:20220417T203000
DTSTAMP:20260420T233846
CREATED:20220314T175430Z
LAST-MODIFIED:20220314T175430Z
UID:6477-1650223800-1650227400@hurleprods.com
SUMMARY:Lara Hierro
DESCRIPTION:Lara Hierro é un espectáculo multidisciplinar protagonizado por tres mulleres da xeración milenial. Lara pon o movemento\, Alma a voz e Pneuma a música para falar da fráxil situación do sector cultural e da crise emocional\, social e medioambiental que estamos vivindo. \nAs tres figuras que compoñen a peza navegan entre o mundo cotiá e un plano de ensoño onde os seus corpos e discursos se encontran. \nLara Hierro é unha chamada ao recoñecemento dos sentimentos de frustración\, parálise e esgotamento provocados pola pandemia e a precariedade inherente á nosa xeración.
URL:https://hurleprods.com/en/agenda/lara-hierro-3/
CATEGORIES:Teatro contemporáneo
ATTACH;FMTTYPE=:
END:VEVENT
BEGIN:VEVENT
DTSTART;TZID=Europe/Madrid:20220319T200000
DTEND;TZID=Europe/Madrid:20220319T233000
DTSTAMP:20260420T233846
CREATED:20220314T174805Z
LAST-MODIFIED:20220314T174805Z
UID:6474-1647720000-1647732600@hurleprods.com
SUMMARY:SWING PARTY
DESCRIPTION:Este mes de marzo tienes una cita con la pista de baile del Sinatra Cóctel Bar. En esta ocasión\, la velada irá a cargo de The Swinging Flamingos\, con su vibrante energía de la era del swing que busca trasladar\, con elegancia\, a un formato reducido la esencia de las grandes big bands norteamericanas. De ello se encargan Alex Salgueiro al órgano hammond\, Antonio Otero a la voz y saxo tenor y Chus Pazos a la batería. Fats Waller y Louis Armstrong van de la mano de Count Basie y Frank Sinatra en este particular homenaje que The Swinging Flamingos nos ofrece. Lánzate a la pista de baile\, déjate llevar y disfruta de un espectáculo lleno de energía\, swing y buen humor\, que hará que te olvides de todo y disfrutes del espectáculo. \nY para que puedas disfrutar de lleno de esta banda de arrolladora y dinámica energía\, podrás asistir a una clase abierta de lindy hop para no dejar de bailar. Además\, habrá actuaciones para amenizar la velada y una divertida pinchada de música swing a cargo de Andrea Costa. \nApertura de puertas: 20:00 \nClase abierta: 20:15 \nConcierto 21:00 \nPinchada: 23:00
URL:https://hurleprods.com/en/agenda/swing-party/
CATEGORIES:Swing
ATTACH;FMTTYPE=:
END:VEVENT
BEGIN:VEVENT
DTSTART;TZID=Europe/Madrid:20220303T203000
DTEND;TZID=Europe/Madrid:20220303T223000
DTSTAMP:20260420T233846
CREATED:20220218T180938Z
LAST-MODIFIED:20220218T180938Z
UID:6460-1646339400-1646346600@hurleprods.com
SUMMARY:Lara Hierro - ESTREA
DESCRIPTION:Lara Hierro é un espectáculo de teatro contemporáneo con carácter multidisciplinar protagonizado por tres mulleres da xeración milenial. Lara pon o movemento\, Alma a voz e Pneuma a música para falar da fráxil situación do sector cultural e da crise emocional\, social e medioambiental que estamos vivindo. As tres figuras que compoñen a peza navegan entre o mundo cotiá e un plano de ensoño onde os seus corpos e discursos se encontran. Lara Hierro é unha chamada ao recoñecemento dos sentimentos de frustración\, parálise e esgotamento provocados pola pandemia e a precariedade inherente á nosa xeración.
URL:https://hurleprods.com/en/agenda/lara-hierro/
ATTACH;FMTTYPE=:
END:VEVENT
BEGIN:VEVENT
DTSTART;TZID=Europe/Madrid:20220219T200000
DTEND;TZID=Europe/Madrid:20220219T233000
DTSTAMP:20260420T233846
CREATED:20220210T193519Z
LAST-MODIFIED:20220210T193519Z
UID:6456-1645300800-1645313400@hurleprods.com
SUMMARY:Swingueando os 32
DESCRIPTION:O sábado 19 de febreiro festexaremos os 32 anos de vida dunha grande aficionada ao baile do xeito máis molón: un concertazo de swing do novo grupo galego Ghastas Pista swing band que terá a sua premier neste agardado evento e unha pinchada da DJ máis swinguera da cidade DJ Ell.Q.\n\nTivemos que esperar dous anos e un mes para volver swinguear a treintena\, por iso gastaremos a pista aínda con máis enerxía.\n\nVen a disfrutar da boa música\, o baile e o bó ambiente que caracteriza sempre á comunidade de lindy hoppers e bailarines de swing de Galicia.\n\n\n\nApertura de portas: 20:00\nInicio de concerto: 21:00\nPinchada Dj Ellen.Q: 22:30- 24:00\nColaboran: Marta Chamosa\, Swing On Vigo\, Sinatra Coctel Bar\n\n\nGHASTAS PISTA swing band\nNace para satisfacer unha necesidade imperiosa no eido do swing galego: un grupo onde predomine a comunicación entre intérpretes e bailaríns\, é por iso que a formación musical vai guiada por unha bailarina que establece a ponte entre os dous mundos. Alén\, é un proxecto que procura a igualdade\, e visibiliza a figura das mulleres en espazos masculinizados dentro do mundo do jazz. Á batería temos a Ana Sanabria Gago\, no contrabaixo a Yudit Almeida\, a guitarra a Wilfried WildeWilde e ao saxo a Diego Alonso Álvarez\n\nCompras as túas entradas en TEUTICKET\nhttps://www.teuticket.com/es/ver/swingueando-os-32
URL:https://hurleprods.com/en/agenda/swingueando-os-32/
CATEGORIES:Swing
ATTACH;FMTTYPE=:
END:VEVENT
BEGIN:VEVENT
DTSTART;TZID=Europe/Madrid:20220217T203000
DTEND;TZID=Europe/Madrid:20220217T223000
DTSTAMP:20260420T233846
CREATED:20220210T192600Z
LAST-MODIFIED:20220210T192600Z
UID:6453-1645129800-1645137000@hurleprods.com
SUMMARY:Poesía e performance
DESCRIPTION:POESÍA E PERFORMANCE \nmicro aberto \n  \n  \nMaría Llanderas \nDiego Horschovski \nPeter Brea \nConstance Hurlé
URL:https://hurleprods.com/en/agenda/poesia-e-performance/
CATEGORIES:Performance,Poesía
ATTACH;FMTTYPE=:
END:VEVENT
BEGIN:VEVENT
DTSTART;TZID=Europe/Madrid:20220212T203000
DTEND;TZID=Europe/Madrid:20220212T203000
DTSTAMP:20260420T233846
CREATED:20220206T213418Z
LAST-MODIFIED:20220206T213418Z
UID:6438-1644697800-1644697800@hurleprods.com
SUMMARY:Vísceras Poéticas
DESCRIPTION:Peza performativa onde se cuestiona a auto percepción do individuo “muller” reconstruida dende e por causa do ollo externo. Unha loita do interno cara fora\, un diálogo de deconstrucción\, destrucción\, aceptación e rebeldía. Un intento de aceptar a pregunta sen resposta “Que é e como é “muller”? \nPieza performativa donde se cuestiona la auto percepción del individuo “mujer” reconstruida desde y por causa del ojo externo. Una lucha de lo interno hacia afuera\, un diálogo de deconstrucción\, destrucción\, aceptación y rebeldía. Un intento de aceptar la pregunta sin respuesta “¿Qué es y cómo es “mujer”? \n 
URL:https://hurleprods.com/en/agenda/visceras-poeticas/
CATEGORIES:Performance
ATTACH;FMTTYPE=:
END:VEVENT
END:VCALENDAR